BEGIN:VCALENDAR
VERSION:2.0
PRODID:-//Union Communiste Libertaire Montpellier - ECPv6.15.20//NONSGML v1.0//EN
CALSCALE:GREGORIAN
METHOD:PUBLISH
X-WR-CALNAME:Union Communiste Libertaire Montpellier
X-ORIGINAL-URL:https://montpellier.unioncommunistelibertaire.org
X-WR-CALDESC:Évènements pour Union Communiste Libertaire Montpellier
REFRESH-INTERVAL;VALUE=DURATION:PT1H
X-Robots-Tag:noindex
X-PUBLISHED-TTL:PT1H
BEGIN:VTIMEZONE
TZID:Europe/Paris
BEGIN:DAYLIGHT
TZOFFSETFROM:+0100
TZOFFSETTO:+0200
TZNAME:CEST
DTSTART:20220327T010000
END:DAYLIGHT
BEGIN:STANDARD
TZOFFSETFROM:+0200
TZOFFSETTO:+0100
TZNAME:CET
DTSTART:20221030T010000
END:STANDARD
BEGIN:DAYLIGHT
TZOFFSETFROM:+0100
TZOFFSETTO:+0200
TZNAME:CEST
DTSTART:20230326T010000
END:DAYLIGHT
BEGIN:STANDARD
TZOFFSETFROM:+0200
TZOFFSETTO:+0100
TZNAME:CET
DTSTART:20231029T010000
END:STANDARD
BEGIN:DAYLIGHT
TZOFFSETFROM:+0100
TZOFFSETTO:+0200
TZNAME:CEST
DTSTART:20240331T010000
END:DAYLIGHT
BEGIN:STANDARD
TZOFFSETFROM:+0200
TZOFFSETTO:+0100
TZNAME:CET
DTSTART:20241027T010000
END:STANDARD
END:VTIMEZONE
BEGIN:VEVENT
DTSTART;TZID=Europe/Paris:20230328T103000
DTEND;TZID=Europe/Paris:20230328T150000
DTSTAMP:20260421T103617
CREATED:20230326T115803Z
LAST-MODIFIED:20230326T115803Z
UID:7164-1679999400-1680015600@montpellier.unioncommunistelibertaire.org
SUMMARY:Manifestation contre la réforme des retraites
DESCRIPTION:10ème manifestation à l’appel de l’intersyndicale : cette semaine on les fait plier\, en masse dans la rue et sur les blocages ! \n 
URL:https://montpellier.unioncommunistelibertaire.org/evenements/manifestation-contre-la-reforme-des-retraites-7/
LOCATION:Place Zeus\, Antigone\, Place de Zeus\, Montpellier\, 34000\, France
CATEGORIES:Manifestation
END:VEVENT
END:VCALENDAR