BEGIN:VCALENDAR
VERSION:2.0
PRODID:-//Union Communiste Libertaire Montpellier - ECPv6.15.20//NONSGML v1.0//EN
CALSCALE:GREGORIAN
METHOD:PUBLISH
X-ORIGINAL-URL:https://montpellier.unioncommunistelibertaire.org
X-WR-CALDESC:Évènements pour Union Communiste Libertaire Montpellier
REFRESH-INTERVAL;VALUE=DURATION:PT1H
X-Robots-Tag:noindex
X-PUBLISHED-TTL:PT1H
BEGIN:VTIMEZONE
TZID:Europe/Paris
BEGIN:DAYLIGHT
TZOFFSETFROM:+0100
TZOFFSETTO:+0200
TZNAME:CEST
DTSTART:20230326T010000
END:DAYLIGHT
BEGIN:STANDARD
TZOFFSETFROM:+0200
TZOFFSETTO:+0100
TZNAME:CET
DTSTART:20231029T010000
END:STANDARD
BEGIN:DAYLIGHT
TZOFFSETFROM:+0100
TZOFFSETTO:+0200
TZNAME:CEST
DTSTART:20240331T010000
END:DAYLIGHT
BEGIN:STANDARD
TZOFFSETFROM:+0200
TZOFFSETTO:+0100
TZNAME:CET
DTSTART:20241027T010000
END:STANDARD
BEGIN:DAYLIGHT
TZOFFSETFROM:+0100
TZOFFSETTO:+0200
TZNAME:CEST
DTSTART:20250330T010000
END:DAYLIGHT
BEGIN:STANDARD
TZOFFSETFROM:+0200
TZOFFSETTO:+0100
TZNAME:CET
DTSTART:20251026T010000
END:STANDARD
END:VTIMEZONE
BEGIN:VEVENT
DTSTART;TZID=Europe/Paris:20240903T180000
DTEND;TZID=Europe/Paris:20240903T200000
DTSTAMP:20260422T021049
CREATED:20240901T203652Z
LAST-MODIFIED:20240901T203917Z
UID:7734-1725386400-1725393600@montpellier.unioncommunistelibertaire.org
SUMMARY:Coup de force au Tribunal administratif de Montpellier - remise en cause de la liberté de manifester : une atteinte grave à un droit fondamental dans l’Hérault
DESCRIPTION:voir le communiqué \nRassemblement le mardi 3 septembre à 18h devant la préfecture de Montpellier
URL:https://montpellier.unioncommunistelibertaire.org/evenements/coup-de-force-au-tribunal-administratif-de-montpellier-remise-en-cause-de-la-liberte-de-manifester-une-atteinte-grave-a-un-droit-fondamental-dans-lherault/
LOCATION:Préfecture de Montpellier\, 34 Place Martyrs de la Résistance\, Montpellier\, 34000
CATEGORIES:Rassemblement
ATTACH;FMTTYPE=image/png:https://montpellier.unioncommunistelibertaire.org/wp-content/uploads/2023/10/signal-2023-10-09-155209-b3ef9.png
END:VEVENT
END:VCALENDAR