BEGIN:VCALENDAR
VERSION:2.0
PRODID:-//Union Communiste Libertaire Montpellier - ECPv6.15.20//NONSGML v1.0//EN
CALSCALE:GREGORIAN
METHOD:PUBLISH
X-WR-CALNAME:Union Communiste Libertaire Montpellier
X-ORIGINAL-URL:https://montpellier.unioncommunistelibertaire.org
X-WR-CALDESC:Évènements pour Union Communiste Libertaire Montpellier
REFRESH-INTERVAL;VALUE=DURATION:PT1H
X-Robots-Tag:noindex
X-PUBLISHED-TTL:PT1H
BEGIN:VTIMEZONE
TZID:Europe/Paris
BEGIN:DAYLIGHT
TZOFFSETFROM:+0100
TZOFFSETTO:+0200
TZNAME:CEST
DTSTART:20230326T010000
END:DAYLIGHT
BEGIN:STANDARD
TZOFFSETFROM:+0200
TZOFFSETTO:+0100
TZNAME:CET
DTSTART:20231029T010000
END:STANDARD
BEGIN:DAYLIGHT
TZOFFSETFROM:+0100
TZOFFSETTO:+0200
TZNAME:CEST
DTSTART:20240331T010000
END:DAYLIGHT
BEGIN:STANDARD
TZOFFSETFROM:+0200
TZOFFSETTO:+0100
TZNAME:CET
DTSTART:20241027T010000
END:STANDARD
BEGIN:DAYLIGHT
TZOFFSETFROM:+0100
TZOFFSETTO:+0200
TZNAME:CEST
DTSTART:20250330T010000
END:DAYLIGHT
BEGIN:STANDARD
TZOFFSETFROM:+0200
TZOFFSETTO:+0100
TZNAME:CET
DTSTART:20251026T010000
END:STANDARD
END:VTIMEZONE
BEGIN:VEVENT
DTSTART;TZID=Europe/Paris:20240912T083000
DTEND;TZID=Europe/Paris:20240912T120000
DTSTAMP:20260422T020756
CREATED:20240909T210920Z
LAST-MODIFIED:20240909T211037Z
UID:7780-1726129800-1726142400@montpellier.unioncommunistelibertaire.org
SUMMARY:Appel à soutien pour un adhérent du collectif « Bancs Publics » de Sète devant le tribunal de Montpellier
DESCRIPTION:L’Union Communiste Libertaire de Montpellier relaie ce communiqué du collectif « Bancs Publics » de Sète : \n\nURGENT: MESSAGE DU COLLECTIF CITOYENS «BANCS PUBLICS» DE SÈTE  \nCe jeudi 12 septembre 2024\, Silvain Pastor\, adhérent du collectif « Bancs Publics » de Sète\, est cité à comparaitre devant le tribunal correctionnel de Montpellier à 8h30. \nInterpellé le 28 octobre 2023 lors de notre rassemblement hebdomadaire\, devant la place Aristide Briand\, notre camarade est alors injustement et violemment embarqué par la BAC (Brigade Anti Criminalité !)\, placé en garde à vue 25 heures\, et assigné à comparaitre pour des motifs qui ne correspondent pas à la réalité des faits. \nNous dénonçons là des abus de pouvoir\, violences policières\, et volonté une fois de plus de criminaliser des actions citoyennes légitimes liées au respect des lois et de l’environnement. \nLe collectif « Bancs publics »\, aujourd’hui véritable « lanceur d’alerte »\, se bat depuis près de trois ans pour empêcher la réalisation d’un parking inutile et écocide en centre-ville de Sète\, privant ses habitantes et habitants d’un lieu de vie publique important. \nSOYONS NOMBREUX JEUDI 12 SEPTEMBRE À 8H30 DEVANT LE TRIBUNAL CORRECTIONNEL DE MONTPELLIER\,  PLACE PIERRE FLOTTE (au sud des jardins du Peyrou) \nÀ l’exception des témoins cités\, nous n’aurons pas accès à la salle d’audience\, mais la présence d’un grand nombre de personnes devant le tribunal\, diverses associations\, ainsi que des médias est fondamentale pour affirmer qu’il s’agit d’un combat collectif et légitime. \nPlus que jamais\, soyons unis et solidaires ! \nApportez vos banderoles associatives et toute pancarte que vous jugerez utile. \nMERCI \nLe collectif « Bancs Publics » de Sète
URL:https://montpellier.unioncommunistelibertaire.org/evenements/appel-a-soutien-a-un-adherent-du-collectif-bancs-publics-de-sete-devant-le-tribunal-de-montpellier/
LOCATION:Tribunal judiciaire de Montpellier\, place Pierre Flotte\, Montpellier
CATEGORIES:Rassemblement
END:VEVENT
END:VCALENDAR