BEGIN:VCALENDAR
VERSION:2.0
PRODID:-//Union Communiste Libertaire Montpellier - ECPv6.15.20//NONSGML v1.0//EN
CALSCALE:GREGORIAN
METHOD:PUBLISH
X-ORIGINAL-URL:https://montpellier.unioncommunistelibertaire.org
X-WR-CALDESC:Évènements pour Union Communiste Libertaire Montpellier
REFRESH-INTERVAL;VALUE=DURATION:PT1H
X-Robots-Tag:noindex
X-PUBLISHED-TTL:PT1H
BEGIN:VTIMEZONE
TZID:Europe/Paris
BEGIN:DAYLIGHT
TZOFFSETFROM:+0100
TZOFFSETTO:+0200
TZNAME:CEST
DTSTART:20180325T010000
END:DAYLIGHT
BEGIN:STANDARD
TZOFFSETFROM:+0200
TZOFFSETTO:+0100
TZNAME:CET
DTSTART:20181028T010000
END:STANDARD
BEGIN:DAYLIGHT
TZOFFSETFROM:+0100
TZOFFSETTO:+0200
TZNAME:CEST
DTSTART:20190331T010000
END:DAYLIGHT
BEGIN:STANDARD
TZOFFSETFROM:+0200
TZOFFSETTO:+0100
TZNAME:CET
DTSTART:20191027T010000
END:STANDARD
BEGIN:DAYLIGHT
TZOFFSETFROM:+0100
TZOFFSETTO:+0200
TZNAME:CEST
DTSTART:20200329T010000
END:DAYLIGHT
BEGIN:STANDARD
TZOFFSETFROM:+0200
TZOFFSETTO:+0100
TZNAME:CET
DTSTART:20201025T010000
END:STANDARD
END:VTIMEZONE
BEGIN:VEVENT
DTSTART;TZID=Europe/Paris:20191101T180000
DTEND;TZID=Europe/Paris:20191103T140000
DTSTAMP:20260426T061241
CREATED:20191029T171220Z
LAST-MODIFIED:20191029T171220Z
UID:4747-1572631200-1572789600@montpellier.unioncommunistelibertaire.org
SUMMARY:Week-end de résistance à l'Amassada
DESCRIPTION:Du 1er au 3 novembre\, à Saint-Victor\, en Aveyron\, grand week-end de résistance au méga transformateur de RTE\, pour ne pas laisser le futur s’imposer à coup de blindé. Au programme\, des repas\, des concerts\, de la lutte\, de la convivialité et de la solidarité. \nVous trouverez le programme et l’appel ici : https://douze.noblogs.org/
URL:https://montpellier.unioncommunistelibertaire.org/evenements/week-end-de-resistance-a-lamassada/
LOCATION:Amassada\, Saint-Victor\, 12251\, France
CATEGORIES:Concert,Dans la rue,Manifestation
END:VEVENT
BEGIN:VEVENT
DTSTART;TZID=Europe/Paris:20191123T193000
DTEND;TZID=Europe/Paris:20191123T230000
DTSTAMP:20260426T061241
CREATED:20191118T075705Z
LAST-MODIFIED:20191118T075705Z
UID:4816-1574537400-1574550000@montpellier.unioncommunistelibertaire.org
SUMMARY:Du son contre la répression
DESCRIPTION:Samedi 23 novembre à partir de 19h30\, l’AG contre les violences d’État et pour les libertés organise\, à la librairie la Mauvaise Réputation\, 20 rue Terral\, une soirée « Du son contre la répression ». \nAvec une présentation de l’AG\, suivi d’un concert avec Pati (chanson chaloupée métissée) et Manouche Scandale (jazz dingo manouche fusion). \nToutes les infos : https://www.facebook.com/events/2512107955538047/
URL:https://montpellier.unioncommunistelibertaire.org/evenements/du-son-contre-la-repression-2/
LOCATION:Librairie La Mauvaise Réputation\, 20\, rue Terral\, Montpellier\, 34000\, France
CATEGORIES:Concert,In-formation
END:VEVENT
END:VCALENDAR