BEGIN:VCALENDAR
VERSION:2.0
PRODID:-//Union Communiste Libertaire Montpellier - ECPv6.15.20//NONSGML v1.0//EN
CALSCALE:GREGORIAN
METHOD:PUBLISH
X-ORIGINAL-URL:https://montpellier.unioncommunistelibertaire.org
X-WR-CALDESC:Évènements pour Union Communiste Libertaire Montpellier
REFRESH-INTERVAL;VALUE=DURATION:PT1H
X-Robots-Tag:noindex
X-PUBLISHED-TTL:PT1H
BEGIN:VTIMEZONE
TZID:Europe/Paris
BEGIN:DAYLIGHT
TZOFFSETFROM:+0100
TZOFFSETTO:+0200
TZNAME:CEST
DTSTART:20190331T010000
END:DAYLIGHT
BEGIN:STANDARD
TZOFFSETFROM:+0200
TZOFFSETTO:+0100
TZNAME:CET
DTSTART:20191027T010000
END:STANDARD
BEGIN:DAYLIGHT
TZOFFSETFROM:+0100
TZOFFSETTO:+0200
TZNAME:CEST
DTSTART:20200329T010000
END:DAYLIGHT
BEGIN:STANDARD
TZOFFSETFROM:+0200
TZOFFSETTO:+0100
TZNAME:CET
DTSTART:20201025T010000
END:STANDARD
BEGIN:DAYLIGHT
TZOFFSETFROM:+0100
TZOFFSETTO:+0200
TZNAME:CEST
DTSTART:20210328T010000
END:DAYLIGHT
BEGIN:STANDARD
TZOFFSETFROM:+0200
TZOFFSETTO:+0100
TZNAME:CET
DTSTART:20211031T010000
END:STANDARD
END:VTIMEZONE
BEGIN:VEVENT
DTSTART;TZID=Europe/Paris:20200222T200000
DTEND;TZID=Europe/Paris:20200222T233000
DTSTAMP:20260426T025627
CREATED:20200218T085345Z
LAST-MODIFIED:20200218T085345Z
UID:5035-1582401600-1582414200@montpellier.unioncommunistelibertaire.org
SUMMARY:Concert punk au CASA en soutien à l'anti-répression
DESCRIPTION:Ce samedi 22 février\, à 20h\, le CASA accueille un concert punk avec les groupes Gli Stronzi\, Mercredi et Raw Signal. L’entrée et le bar seront à prix libre et l’argent servira à soutenir les groupes en tournée ainsi que la caisse anti-répression de Montpellier ! \nhttps://herault.demosphere.net/rv/13985
URL:https://montpellier.unioncommunistelibertaire.org/evenements/concert-punk-au-casa-en-soutien-a-lanti-repression/
LOCATION:CASA\, 2 rue du faubourg Saint-Jaumes\, Montpellier\, 34000\, France
CATEGORIES:Concert
END:VEVENT
END:VCALENDAR