BEGIN:VCALENDAR
VERSION:2.0
PRODID:-//Union Communiste Libertaire Montpellier - ECPv6.15.20//NONSGML v1.0//EN
CALSCALE:GREGORIAN
METHOD:PUBLISH
X-WR-CALNAME:Union Communiste Libertaire Montpellier
X-ORIGINAL-URL:https://montpellier.unioncommunistelibertaire.org
X-WR-CALDESC:Évènements pour Union Communiste Libertaire Montpellier
REFRESH-INTERVAL;VALUE=DURATION:PT1H
X-Robots-Tag:noindex
X-PUBLISHED-TTL:PT1H
BEGIN:VTIMEZONE
TZID:Europe/Paris
BEGIN:DAYLIGHT
TZOFFSETFROM:+0100
TZOFFSETTO:+0200
TZNAME:CEST
DTSTART:20230326T010000
END:DAYLIGHT
BEGIN:STANDARD
TZOFFSETFROM:+0200
TZOFFSETTO:+0100
TZNAME:CET
DTSTART:20231029T010000
END:STANDARD
BEGIN:DAYLIGHT
TZOFFSETFROM:+0100
TZOFFSETTO:+0200
TZNAME:CEST
DTSTART:20240331T010000
END:DAYLIGHT
BEGIN:STANDARD
TZOFFSETFROM:+0200
TZOFFSETTO:+0100
TZNAME:CET
DTSTART:20241027T010000
END:STANDARD
BEGIN:DAYLIGHT
TZOFFSETFROM:+0100
TZOFFSETTO:+0200
TZNAME:CEST
DTSTART:20250330T010000
END:DAYLIGHT
BEGIN:STANDARD
TZOFFSETFROM:+0200
TZOFFSETTO:+0100
TZNAME:CET
DTSTART:20251026T010000
END:STANDARD
END:VTIMEZONE
BEGIN:VEVENT
DTSTART;TZID=Europe/Paris:20240427T103000
DTEND;TZID=Europe/Paris:20240427T103000
DTSTAMP:20260422T042100
CREATED:20240423T201503Z
LAST-MODIFIED:20240423T201503Z
UID:7628-1714213800-1714213800@montpellier.unioncommunistelibertaire.org
SUMMARY:Face au projet de construction d'une usine d'embouteillage sur la commune de Montagnac : déambulation festive dans les rues de Pézenas
DESCRIPTION:L’Union Communiste Libertaire de Montpellier soutien l’appel de l’association Veille Eau Grain et le relais de la Coord’Eau 34. \n\nFace au projet de construction d’une usine d’embouteillage sur la commune de Montagnac\, la Coord’Eau 34\,  se mobilise auprès de l’association Veille Eau Grain et relaie son initiative : \nRDV samedi 27 avril à 10H30\, place des états du Languedoc à Pézenas pour une déambulation festive dans les rues de Pézenas. \nVenez rencontrer les membres de Veille Eau Grain et vous informer sur ce projet écocide et ses conséquences néfastes.\nSoyons nombreuses et nombreux à déambuler joyeusement\, ce jour-là\, pour la défense de l’eau contre la prédation des intérêts privés ! \nLa municipalité de Montagnac porte un projet d’installation d’une usine d’embouteillage d’eau de source sur la commune. Le forage de la Castillonne\, aux caractéristiques exceptionnelles (1500 m de profondeur\, arthésien)\, financé en 1986 par des fonds publics \, serait cédé\, pour un prix dérisoire au groupe ALMA\, propriétaire de la CGES (Cristalline\, Saint-Yorre\, Vichy…). Cette implantation aura des conséquences catastrophiques en terme de destruction d’emploi local (viticulture\, tourisme) et d’impact environnemental (artificialisation des sols\, pollution du bassin versant de l’étang de Thau\, rotation de 160 camions quotidiens\, production plastique…). En pleine période de raréfaction de l’eau\, la commune veut privatiser cette ressource à travers un projet de prédation écocide. \n\nVous pouvez également soutenir Veille Eau Grain en adhérant à l’association : https://www.helloasso.com/associations/veille-eau-grain/adhesions/adhesion-association-veille-eau-grain\n\nL’adhésion à l’association permettra de récolter les fonds nécessaires pour couvrir les frais des recours juridiques menés pour s’opposer à la vente des parcelles dont celle où se situe le forage. \nà très vite ! La Coord’Eau 34 \n\nPour plus d’infos : [pdf-embedder url= »https://montpellier.unioncommunistelibertaire.org/wp-content/uploads/2024/04/tract-pour-diffusion-numerique.pdf » title= »tract pour diffusion numérique »] [pdf-embedder url= »https://montpellier.unioncommunistelibertaire.org/wp-content/uploads/2024/04/Quel-avenir-pour-leau-de-la-Castillonne-_V3.pdf » title= »Quel avenir pour l’eau de la Castillonne _V3″]
URL:https://montpellier.unioncommunistelibertaire.org/evenements/face-au-projet-de-construction-dune-usine-dembouteillage-sur-la-commune-de-montagnac-deambulation-festive-dans-les-rues-de-pezenas/
LOCATION:Pézenas\, Places des états du Languedoc\, Pézenas
CATEGORIES:Dans la rue,Rendez-vous
ATTACH;FMTTYPE=image/png:https://montpellier.unioncommunistelibertaire.org/wp-content/uploads/2024/04/Veille-au-grain-20240427.png
END:VEVENT
END:VCALENDAR