BEGIN:VCALENDAR
VERSION:2.0
PRODID:-//Union Communiste Libertaire Montpellier - ECPv6.15.20//NONSGML v1.0//EN
CALSCALE:GREGORIAN
METHOD:PUBLISH
X-WR-CALNAME:Union Communiste Libertaire Montpellier
X-ORIGINAL-URL:https://montpellier.unioncommunistelibertaire.org
X-WR-CALDESC:Évènements pour Union Communiste Libertaire Montpellier
REFRESH-INTERVAL;VALUE=DURATION:PT1H
X-Robots-Tag:noindex
X-PUBLISHED-TTL:PT1H
BEGIN:VTIMEZONE
TZID:Europe/Paris
BEGIN:DAYLIGHT
TZOFFSETFROM:+0100
TZOFFSETTO:+0200
TZNAME:CEST
DTSTART:20220327T010000
END:DAYLIGHT
BEGIN:STANDARD
TZOFFSETFROM:+0200
TZOFFSETTO:+0100
TZNAME:CET
DTSTART:20221030T010000
END:STANDARD
BEGIN:DAYLIGHT
TZOFFSETFROM:+0100
TZOFFSETTO:+0200
TZNAME:CEST
DTSTART:20230326T010000
END:DAYLIGHT
BEGIN:STANDARD
TZOFFSETFROM:+0200
TZOFFSETTO:+0100
TZNAME:CET
DTSTART:20231029T010000
END:STANDARD
BEGIN:DAYLIGHT
TZOFFSETFROM:+0100
TZOFFSETTO:+0200
TZNAME:CEST
DTSTART:20240331T010000
END:DAYLIGHT
BEGIN:STANDARD
TZOFFSETFROM:+0200
TZOFFSETTO:+0100
TZNAME:CET
DTSTART:20241027T010000
END:STANDARD
END:VTIMEZONE
BEGIN:VEVENT
DTSTART;TZID=Europe/Paris:20230930T173000
DTEND;TZID=Europe/Paris:20230930T230000
DTSTAMP:20260422T205716
CREATED:20230930T094032Z
LAST-MODIFIED:20230930T094032Z
UID:7390-1696095000-1696114800@montpellier.unioncommunistelibertaire.org
SUMMARY:Table d'infos BTP et présentation de la lutte contre le LIEN à la soirée de rentrée de la BASE
DESCRIPTION:Le collectif Bloque Ton Périph (BTP) tiendra une table d'infos et fera une présentation de la\nlutte contre le L.I.E.N. et un point sur la mobilisation qui s'organise les 14 et 15 octobre.
URL:https://montpellier.unioncommunistelibertaire.org/evenements/table-dinfos-btp-et-presentation-de-la-lutte-contre-le-lien-a-la-soiree-de-rentree-de-la-base/
LOCATION:La BASE\, 15 rue Chaptal\, Montpellier\, France
CATEGORIES:In-formation,Soutien
END:VEVENT
END:VCALENDAR