BEGIN:VCALENDAR
VERSION:2.0
PRODID:-//Union Communiste Libertaire Montpellier - ECPv6.15.20//NONSGML v1.0//EN
CALSCALE:GREGORIAN
METHOD:PUBLISH
X-WR-CALNAME:Union Communiste Libertaire Montpellier
X-ORIGINAL-URL:https://montpellier.unioncommunistelibertaire.org
X-WR-CALDESC:Évènements pour Union Communiste Libertaire Montpellier
REFRESH-INTERVAL;VALUE=DURATION:PT1H
X-Robots-Tag:noindex
X-PUBLISHED-TTL:PT1H
BEGIN:VTIMEZONE
TZID:Europe/Paris
BEGIN:DAYLIGHT
TZOFFSETFROM:+0100
TZOFFSETTO:+0200
TZNAME:CEST
DTSTART:20180325T010000
END:DAYLIGHT
BEGIN:STANDARD
TZOFFSETFROM:+0200
TZOFFSETTO:+0100
TZNAME:CET
DTSTART:20181028T010000
END:STANDARD
BEGIN:DAYLIGHT
TZOFFSETFROM:+0100
TZOFFSETTO:+0200
TZNAME:CEST
DTSTART:20190331T010000
END:DAYLIGHT
BEGIN:STANDARD
TZOFFSETFROM:+0200
TZOFFSETTO:+0100
TZNAME:CET
DTSTART:20191027T010000
END:STANDARD
BEGIN:DAYLIGHT
TZOFFSETFROM:+0100
TZOFFSETTO:+0200
TZNAME:CEST
DTSTART:20200329T010000
END:DAYLIGHT
BEGIN:STANDARD
TZOFFSETFROM:+0200
TZOFFSETTO:+0100
TZNAME:CET
DTSTART:20201025T010000
END:STANDARD
END:VTIMEZONE
BEGIN:VEVENT
DTSTART;TZID=Europe/Paris:20191109T203000
DTEND;TZID=Europe/Paris:20191109T233000
DTSTAMP:20260425T191740
CREATED:20191105T072255Z
LAST-MODIFIED:20191105T220409Z
UID:4781-1573331400-1573342200@montpellier.unioncommunistelibertaire.org
SUMMARY:Projection débat : éloge de la perruque ouvrière
DESCRIPTION:Tout est à nous\, rien n’est à eux ! \nÉloge de la perruque ouvrière. \nL’Union communiste libertaire de Toulouse et Au chat noir\, Les syndicats CNT\, SUD d’Ariège\, et Le Barricade de Montpellier se sont regroupés afin d’organiser une « tournée »\, rdv ->\nSAMEDI 9 NOVEMBRE à 20h30 \nA Montpellier\, est invité Robert Kosmann (ancien métallurgiste\, syndicaliste et auteur du livre Sorti d’usines parut l’année dernière aux éditions Syllepse) et Jan Middelbos (doctorant en Arts plastiques à la pratique anarcho-perruqueuse). \nhttps://www.facebook.com/events/1159551054230875/
URL:https://montpellier.unioncommunistelibertaire.org/evenements/projection-debat-eloge-de-la-perruque-ouvriere/
LOCATION:Le Barricade\, 14 Rue Aristide Ollivier\, Montpellier\, 34000\, France
CATEGORIES:Débat,Projection
END:VEVENT
BEGIN:VEVENT
DTSTART;TZID=Europe/Paris:20191122T193000
DTEND;TZID=Europe/Paris:20191122T220000
DTSTAMP:20260425T191740
CREATED:20191116T064801Z
LAST-MODIFIED:20191116T064801Z
UID:4806-1574451000-1574460000@montpellier.unioncommunistelibertaire.org
SUMMARY:Projection "Rojava : la révolution par les femmes"
DESCRIPTION:Vendredi 22 novembre à 19h30 à la Carmagnole\, 10 rue Haguenot\, le Collectif de Solidarité avec le Peuple Kurde\, auquel nous participons\, organise une projection du documentaire de Mylène Saulnoy Rojava : la révolution par les femmes. La projection sera suivie par un débat et un repas kurde. \nhttps://lacarmagnole.fr/event-pro/kurdistan-projection-debat-rojava-la-revolution-par-les-femmes/ \n 
URL:https://montpellier.unioncommunistelibertaire.org/evenements/projection-rojava-la-revolution-par-les-femmes/
LOCATION:la Carmagnole\, 10 rue de la Palissade\, Montpellier\, 34070\, France
CATEGORIES:Débat,Projection
END:VEVENT
BEGIN:VEVENT
DTSTART;TZID=Europe/Paris:20191123T180000
DTEND;TZID=Europe/Paris:20191123T220000
DTSTAMP:20260425T191740
CREATED:20191116T065815Z
LAST-MODIFIED:20191116T065815Z
UID:4809-1574532000-1574546400@montpellier.unioncommunistelibertaire.org
SUMMARY:Projection de deux documentaires sur le Kurdistan
DESCRIPTION:Samedi 23 novembre\, à 18h\, au cinéma Alain Resnais\, rue Roger Salasc à Clermont-l’Hérault\, le Collectif de Solidarité avec le Peuple Kurde organise une projection des deux documentaires de Mylène Saulnoy sur le Rojava : La guerre des filles et Rojava : la révolution par les femmes.
URL:https://montpellier.unioncommunistelibertaire.org/evenements/projection-de-deux-documentaires-sur-le-kurdistan/
LOCATION:Cinéma Alain Resnais\, rue Roger Salasc\, Clermont-l'Hérault\, 34800\, France
CATEGORIES:Projection
END:VEVENT
END:VCALENDAR