BEGIN:VCALENDAR
VERSION:2.0
PRODID:-//Union Communiste Libertaire Montpellier - ECPv6.15.20//NONSGML v1.0//EN
CALSCALE:GREGORIAN
METHOD:PUBLISH
X-WR-CALNAME:Union Communiste Libertaire Montpellier
X-ORIGINAL-URL:https://montpellier.unioncommunistelibertaire.org
X-WR-CALDESC:Évènements pour Union Communiste Libertaire Montpellier
REFRESH-INTERVAL;VALUE=DURATION:PT1H
X-Robots-Tag:noindex
X-PUBLISHED-TTL:PT1H
BEGIN:VTIMEZONE
TZID:Europe/Paris
BEGIN:DAYLIGHT
TZOFFSETFROM:+0100
TZOFFSETTO:+0200
TZNAME:CEST
DTSTART:20180325T010000
END:DAYLIGHT
BEGIN:STANDARD
TZOFFSETFROM:+0200
TZOFFSETTO:+0100
TZNAME:CET
DTSTART:20181028T010000
END:STANDARD
BEGIN:DAYLIGHT
TZOFFSETFROM:+0100
TZOFFSETTO:+0200
TZNAME:CEST
DTSTART:20190331T010000
END:DAYLIGHT
BEGIN:STANDARD
TZOFFSETFROM:+0200
TZOFFSETTO:+0100
TZNAME:CET
DTSTART:20191027T010000
END:STANDARD
BEGIN:DAYLIGHT
TZOFFSETFROM:+0100
TZOFFSETTO:+0200
TZNAME:CEST
DTSTART:20200329T010000
END:DAYLIGHT
BEGIN:STANDARD
TZOFFSETFROM:+0200
TZOFFSETTO:+0100
TZNAME:CET
DTSTART:20201025T010000
END:STANDARD
END:VTIMEZONE
BEGIN:VEVENT
DTSTART;TZID=Europe/Paris:20191123T180000
DTEND;TZID=Europe/Paris:20191123T220000
DTSTAMP:20260425T204045
CREATED:20191116T065815Z
LAST-MODIFIED:20191116T065815Z
UID:4809-1574532000-1574546400@montpellier.unioncommunistelibertaire.org
SUMMARY:Projection de deux documentaires sur le Kurdistan
DESCRIPTION:Samedi 23 novembre\, à 18h\, au cinéma Alain Resnais\, rue Roger Salasc à Clermont-l’Hérault\, le Collectif de Solidarité avec le Peuple Kurde organise une projection des deux documentaires de Mylène Saulnoy sur le Rojava : La guerre des filles et Rojava : la révolution par les femmes.
URL:https://montpellier.unioncommunistelibertaire.org/evenements/projection-de-deux-documentaires-sur-le-kurdistan/
LOCATION:Cinéma Alain Resnais\, rue Roger Salasc\, Clermont-l'Hérault\, 34800\, France
CATEGORIES:Projection
END:VEVENT
END:VCALENDAR