BEGIN:VCALENDAR
VERSION:2.0
PRODID:-//Union Communiste Libertaire Montpellier - ECPv6.15.20//NONSGML v1.0//EN
CALSCALE:GREGORIAN
METHOD:PUBLISH
X-ORIGINAL-URL:https://montpellier.unioncommunistelibertaire.org
X-WR-CALDESC:Évènements pour Union Communiste Libertaire Montpellier
REFRESH-INTERVAL;VALUE=DURATION:PT1H
X-Robots-Tag:noindex
X-PUBLISHED-TTL:PT1H
BEGIN:VTIMEZONE
TZID:Europe/Paris
BEGIN:DAYLIGHT
TZOFFSETFROM:+0100
TZOFFSETTO:+0200
TZNAME:CEST
DTSTART:20200329T010000
END:DAYLIGHT
BEGIN:STANDARD
TZOFFSETFROM:+0200
TZOFFSETTO:+0100
TZNAME:CET
DTSTART:20201025T010000
END:STANDARD
BEGIN:DAYLIGHT
TZOFFSETFROM:+0100
TZOFFSETTO:+0200
TZNAME:CEST
DTSTART:20210328T010000
END:DAYLIGHT
BEGIN:STANDARD
TZOFFSETFROM:+0200
TZOFFSETTO:+0100
TZNAME:CET
DTSTART:20211031T010000
END:STANDARD
BEGIN:DAYLIGHT
TZOFFSETFROM:+0100
TZOFFSETTO:+0200
TZNAME:CEST
DTSTART:20220327T010000
END:DAYLIGHT
BEGIN:STANDARD
TZOFFSETFROM:+0200
TZOFFSETTO:+0100
TZNAME:CET
DTSTART:20221030T010000
END:STANDARD
END:VTIMEZONE
BEGIN:VEVENT
DTSTART;TZID=Europe/Paris:20210130T160000
DTEND;TZID=Europe/Paris:20210130T180000
DTSTAMP:20260424T181528
CREATED:20210110T144855Z
LAST-MODIFIED:20210119T175919Z
UID:6100-1612022400-1612029600@montpellier.unioncommunistelibertaire.org
SUMMARY:20 ans de la librairie : Luttes des personnes sans-papiers et migrantes : un lieu à disposition
DESCRIPTION:Samedi 30 janvier\, à 16h\, nous continuons nos événements pour célébrer les 20 ans de notre librairie avec la deuxième animation thématique qui sera consacrée au rôle de ce local dans les luttes des personnes sans-papiers et migrantes. A cette occasion sera diffuser le film « Arracher les droits » \nhttps://montpellier.unioncommunistelibertaire.org/le-09-janvier-la-librairie-reouvre-ses-portes-15h-19h-avec-une-expo-et-fete-ses-20-ans/
URL:https://montpellier.unioncommunistelibertaire.org/evenements/20-ans-de-la-librairie-luttes-des-personnes-sans-papiers-et-migrantes-un-lieu-a-disposition/
LOCATION:Librairie La Mauvaise Réputation\, 20\, rue Terral\, Montpellier\, 34000\, France
CATEGORIES:Projection
END:VEVENT
END:VCALENDAR