BEGIN:VCALENDAR
VERSION:2.0
PRODID:-//Union Communiste Libertaire Montpellier - ECPv6.15.20//NONSGML v1.0//EN
CALSCALE:GREGORIAN
METHOD:PUBLISH
X-ORIGINAL-URL:https://montpellier.unioncommunistelibertaire.org
X-WR-CALDESC:Évènements pour Union Communiste Libertaire Montpellier
REFRESH-INTERVAL;VALUE=DURATION:PT1H
X-Robots-Tag:noindex
X-PUBLISHED-TTL:PT1H
BEGIN:VTIMEZONE
TZID:Europe/Paris
BEGIN:DAYLIGHT
TZOFFSETFROM:+0100
TZOFFSETTO:+0200
TZNAME:CEST
DTSTART:20180325T010000
END:DAYLIGHT
BEGIN:STANDARD
TZOFFSETFROM:+0200
TZOFFSETTO:+0100
TZNAME:CET
DTSTART:20181028T010000
END:STANDARD
BEGIN:DAYLIGHT
TZOFFSETFROM:+0100
TZOFFSETTO:+0200
TZNAME:CEST
DTSTART:20190331T010000
END:DAYLIGHT
BEGIN:STANDARD
TZOFFSETFROM:+0200
TZOFFSETTO:+0100
TZNAME:CET
DTSTART:20191027T010000
END:STANDARD
BEGIN:DAYLIGHT
TZOFFSETFROM:+0100
TZOFFSETTO:+0200
TZNAME:CEST
DTSTART:20200329T010000
END:DAYLIGHT
BEGIN:STANDARD
TZOFFSETFROM:+0200
TZOFFSETTO:+0100
TZNAME:CET
DTSTART:20201025T010000
END:STANDARD
END:VTIMEZONE
BEGIN:VEVENT
DTSTART;TZID=Europe/Paris:20191012T130000
DTEND;TZID=Europe/Paris:20191012T150000
DTSTAMP:20260426T012018
CREATED:20191007T091235Z
LAST-MODIFIED:20191009T162432Z
UID:4646-1570885200-1570892400@montpellier.unioncommunistelibertaire.org
SUMMARY:Rassemblement contre la répression subie par BDS
DESCRIPTION:Samedi 12 octobre\, à partir de 13h\, la campagne BDS France Montpellier appelle à un rassemblement sur la Comédie\, pour dénoncer le harcèlement dont ils-elles sont victimes. \nNous vous transmettons le tract d’appel dont nous sommes signataires : \n[pdf-embedder url= »https://montpellier.unioncommunistelibertaire.org/wp-content/uploads/2019/10/TRACTappelComédie.pdf »]
URL:https://montpellier.unioncommunistelibertaire.org/evenements/rassemblement-contre-la-repression-subie-par-bds/
LOCATION:Place de la Comédie
CATEGORIES:Rassemblement,Soutien
END:VEVENT
BEGIN:VEVENT
DTSTART;TZID=Europe/Paris:20191016T080000
DTEND;TZID=Europe/Paris:20191016T103000
DTSTAMP:20260426T012018
CREATED:20191004T142413Z
LAST-MODIFIED:20191004T142413Z
UID:4620-1571212800-1571221800@montpellier.unioncommunistelibertaire.org
SUMMARY:Rassemblement de soutien à un militant de BDS convoqué au tribunal
DESCRIPTION:Mercredi 16 octobre\, à 8h\, José-Luis\, militant bien connu de BDS Montpellier\, est convoqué au tribunal\, place Pierre Flotte\, pour « émission de bruit portant atteinte à la tranquillité du voisinage ou à la santé du voisinage »\, alors qu’il se trouvait… dans une manifestation ! Quoi qu’on pense de la campagne Boycott\, Désinvestissement\, Sanction qui agit en solidarité avec le peuple palestinien\, il s’agit de l’énième attaque contre leur liberté d’expression\, ici contre le droit pour un militant de manifester. \nCeci est intolérable\, nous vous appelons donc à vous joindre\, avec nous\, au rassemblement qui aura lieu pour soutenir BDS. La solidarité est notre arme! \n 
URL:https://montpellier.unioncommunistelibertaire.org/evenements/rassemblement-de-soutien-a-un-militant-de-bds-convoque-au-tribunal/
LOCATION:tribunal de Police\, Place Pierre Flotte\, Montpellier\, 34000\, France
CATEGORIES:Rassemblement,Soutien
END:VEVENT
END:VCALENDAR