BEGIN:VCALENDAR
VERSION:2.0
PRODID:-//Union Communiste Libertaire Montpellier - ECPv6.15.20//NONSGML v1.0//EN
CALSCALE:GREGORIAN
METHOD:PUBLISH
X-ORIGINAL-URL:https://montpellier.unioncommunistelibertaire.org
X-WR-CALDESC:Évènements pour Union Communiste Libertaire Montpellier
REFRESH-INTERVAL;VALUE=DURATION:PT1H
X-Robots-Tag:noindex
X-PUBLISHED-TTL:PT1H
BEGIN:VTIMEZONE
TZID:Europe/Paris
BEGIN:DAYLIGHT
TZOFFSETFROM:+0100
TZOFFSETTO:+0200
TZNAME:CEST
DTSTART:20230326T010000
END:DAYLIGHT
BEGIN:STANDARD
TZOFFSETFROM:+0200
TZOFFSETTO:+0100
TZNAME:CET
DTSTART:20231029T010000
END:STANDARD
BEGIN:DAYLIGHT
TZOFFSETFROM:+0100
TZOFFSETTO:+0200
TZNAME:CEST
DTSTART:20240331T010000
END:DAYLIGHT
BEGIN:STANDARD
TZOFFSETFROM:+0200
TZOFFSETTO:+0100
TZNAME:CET
DTSTART:20241027T010000
END:STANDARD
BEGIN:DAYLIGHT
TZOFFSETFROM:+0100
TZOFFSETTO:+0200
TZNAME:CEST
DTSTART:20250330T010000
END:DAYLIGHT
BEGIN:STANDARD
TZOFFSETFROM:+0200
TZOFFSETTO:+0100
TZNAME:CET
DTSTART:20251026T010000
END:STANDARD
END:VTIMEZONE
BEGIN:VEVENT
DTSTART;TZID=Europe/Paris:20240323T123000
DTEND;TZID=Europe/Paris:20240323T220000
DTSTAMP:20260422T054657
CREATED:20240301T190732Z
LAST-MODIFIED:20240301T190938Z
UID:7574-1711197000-1711231200@montpellier.unioncommunistelibertaire.org
SUMMARY:Journée mondiale de l’eau
DESCRIPTION:Le groupe de Montpellier de l’Ucl participe à la Coord’Eau qui co-organise la journée de l’eau (article)\n \nLa Coord’eau 34\, Œuvre d’eau et le CoDev Pays Cœur d’Hérault organisent : \nle samedi 23 mars à Salelles du Bosc\nsalle polyvalente Jules Bral – rd609\, 34700 Le Bosc \nune journée de rencontres\, d’échanges\, de sensibilisation et d’information autour de l’eau et de ses usages avec conférence\, ateliers participatifs\, concert\, repas et buvette. \nProgramme de la journée\n\n12H30 : la journée débutera par un pique-nique partagé\n\n\n14H : Conférence présentée par Denis Fréhel\, conférencier\, formateur\, ingénieur-conseil en hydrologie régénérative\, secrétaire de l’association PUHR (Pour Une Hydrologie Régénérative)\, https://hydrologie-regenerative.fr/\n\nHydrologie régénérative\, vers une nouvelle vision de l’eau ? \nLa représentation du cycle de l’eau que nous avons apprise à l’école doit être revisitée. D’abord les activités des sociétés industrielles et le dérèglement climatique exercent une forte influence sur celui-ci. Ensuite parce que\, si la connaissance du lien eau-végétation est identifiée depuis l’antiquité\, la meilleure compréhension aujourd’hui acquise de ces phénomènes nous permet de concevoir des paysages qui régénérèrent les cycles de l’eau. De ce paysage encore imaginaire à une nouvelle approche de l’eau\, il n’y a qu’un pas… \n\n16H : l’après-midi se poursuivra avec des ateliers  participatifs\, sur différentes thématiques liées à l’eau\, sujet transversal qui concerne toutes les activités humaines\, mais aussi l’ensemble du vivant.\nA partir de 19H : la soirée permettra de nous retrouver autour d’un  verre et d’un repas à prix libre\, suivi d’un concert.
URL:https://montpellier.unioncommunistelibertaire.org/evenements/7574/
LOCATION:Salle polyvalente Jules Bral\, rd609\, Le Bosc\, 34700\, France
CATEGORIES:Réunion publique
ATTACH;FMTTYPE=image/jpeg:https://montpellier.unioncommunistelibertaire.org/wp-content/uploads/2024/03/Journee-mondiale-de-leau-23mars-image.jpg
END:VEVENT
END:VCALENDAR