BEGIN:VCALENDAR
VERSION:2.0
PRODID:-//Union Communiste Libertaire Montpellier - ECPv6.15.20//NONSGML v1.0//EN
CALSCALE:GREGORIAN
METHOD:PUBLISH
X-ORIGINAL-URL:https://montpellier.unioncommunistelibertaire.org
X-WR-CALDESC:Évènements pour Union Communiste Libertaire Montpellier
REFRESH-INTERVAL;VALUE=DURATION:PT1H
X-Robots-Tag:noindex
X-PUBLISHED-TTL:PT1H
BEGIN:VTIMEZONE
TZID:Europe/Paris
BEGIN:DAYLIGHT
TZOFFSETFROM:+0100
TZOFFSETTO:+0200
TZNAME:CEST
DTSTART:20230326T010000
END:DAYLIGHT
BEGIN:STANDARD
TZOFFSETFROM:+0200
TZOFFSETTO:+0100
TZNAME:CET
DTSTART:20231029T010000
END:STANDARD
BEGIN:DAYLIGHT
TZOFFSETFROM:+0100
TZOFFSETTO:+0200
TZNAME:CEST
DTSTART:20240331T010000
END:DAYLIGHT
BEGIN:STANDARD
TZOFFSETFROM:+0200
TZOFFSETTO:+0100
TZNAME:CET
DTSTART:20241027T010000
END:STANDARD
BEGIN:DAYLIGHT
TZOFFSETFROM:+0100
TZOFFSETTO:+0200
TZNAME:CEST
DTSTART:20250330T010000
END:DAYLIGHT
BEGIN:STANDARD
TZOFFSETFROM:+0200
TZOFFSETTO:+0100
TZNAME:CET
DTSTART:20251026T010000
END:STANDARD
END:VTIMEZONE
BEGIN:VEVENT
DTSTART;TZID=Europe/Paris:20240601T180000
DTEND;TZID=Europe/Paris:20240601T180000
DTSTAMP:20260422T045620
CREATED:20240515T080027Z
LAST-MODIFIED:20240515T080027Z
UID:7647-1717264800-1717264800@montpellier.unioncommunistelibertaire.org
SUMMARY:Présentation/débat : Enjeux et luttes autour de l’eau en Hérault en présence de la Coord’Eau 34
DESCRIPTION:Présentation/débat : Enjeux et luttes autour de l’eau en Hérault\nEn présence de la Coord’Eau 34 \nCes derniers mois la question de l’eau est régulièrement en une de l’actualité : sècheresses\, inondations\, répression féroce de la lutte contre les méga-bassines de Sainte-Soline etc. \nMais les enjeux sont rarement abordés dans leur complexité et leur diversité : la question de l’eau comprend celle de sa consommation et de sa distribution au niveau individuel et agricole\, de sa pollution éventuelle\, le tout en lien avec l’accélération des changements climatiques et celle du cycle de l’eau. Le thème de l’eau est éminemment politique car il pose la question de la gestion d’un bien commun absolument vital. Et force est de constater l’accaparement de l’eau par des intérêts privés\, sa gestion anti-démocratique et éloignée des impératifs environnementaux. \nFace à cela\, des résistances s’organisent. La Coord’Eau 34\, qui réunit individus\, collectifs\, associations et organisations à travers tout l’Hérault a été créée pour s’emparer de ces questions. De l’opposition aux projets de bassines portés par le conseil départemental à celui de l’implantation d’une usine d’embouteillage (entreprise Alma dont Cristaline\, Saint-Yorre\, Vichy) à Montagnac\, la Coord’Eau 34 multiplie son ancrage et ses interventions. \nL’Union Communiste Libertaire de Montpellier a invité la Coord’Eau 34 à présenter les enjeux autour de l’eau dans l’Hérault et les luttes qui s’y construisent : de quoi donner à comprendre pour donner envie d’agir ! La présentation sera suivie d’un débat. \nRendez-vous le samedi 1er juin à 18 h à la librairie La Mauvaise Réputation (20 rue Terral\, quartier Ste Anne\,  à Montpellier)
URL:https://montpellier.unioncommunistelibertaire.org/evenements/presentation-debat-enjeux-et-luttes-autour-de-leau-en-herault-en-presence-de-la-coordeau-34/
LOCATION:Librairie La Mauvaise Réputation\, 20\, rue Terral\, Montpellier\, 34000\, France
CATEGORIES:Débat,Rendez-vous
ATTACH;FMTTYPE=image/png:https://montpellier.unioncommunistelibertaire.org/wp-content/uploads/2023/06/coordeau.png
END:VEVENT
BEGIN:VEVENT
DTSTART;TZID=Europe/Paris:20240616T150000
DTEND;TZID=Europe/Paris:20240616T220000
DTSTAMP:20260422T045620
CREATED:20240610T210244Z
LAST-MODIFIED:20240614T062656Z
UID:7670-1718550000-1718575200@montpellier.unioncommunistelibertaire.org
SUMMARY:Forum de l'eau du local au global ⚠️ reporté au mois de septembre ⚠️
DESCRIPTION:⚠️ Reporté au mois de septembre ⚠️\n\nDimanche 16 juin au Mas Dieu à Montarnaud – Tables rondes et Spectacle vivant\n15h : Table ronde #1 – État de la ressource localement\, comment est-elle gérée ?\n• René REVOL\, Maire de Grabels\, président de la régie des eaux de Montpellier 3M\n• Denis TERRAILLON\, membre du Conseil de Développement (CoDev) Pays Cœur d’Hérault \n16h : Pièce de Théatre Art Mixte\n16h30 : Table ronde #2 – L’avenir de la vigne à + 3°C ?\n• Nina GRAVELINE\, Recherche et innovation sur l’adaptation de l’agriculture au changement climatique à l’INRAE\n• Dominique SOULIER\, Confédération Paysanne\n• Jean TRUCHET\, Viticulteur agriculture raisonnée \n17h30 : Spectacle surprise Lezard’U\n18h00 : Table ronde #3 – Panorama des luttes locales sur l’eau\n• Coord’eau 34 : Défendre l’eau\, notre bien commun\n• Veille Eau Grain : Une usine d’embouteillage à Montagnac ?\n• Sauvons le Salagou : Pas d’extension de l’irrigation ! \n19h00 : Concert Je s’appelle Groove\nEntrée gratuite\nBuvette / Restauration / Espace enfants \n[pdf-embedder url= »https://montpellier.unioncommunistelibertaire.org/wp-content/uploads/2024/06/forum-de-leau-finale.pdf » title= »forum de l’eau finale »]
URL:https://montpellier.unioncommunistelibertaire.org/evenements/forum-de-leau-du-local-au-global/
LOCATION:Mas Dieu\, Montarnaud
CATEGORIES:Réunion publique
ATTACH;FMTTYPE=image/png:https://montpellier.unioncommunistelibertaire.org/wp-content/uploads/2023/06/coordeau.png
END:VEVENT
BEGIN:VEVENT
DTSTART;TZID=Europe/Paris:20240620T190000
DTEND;TZID=Europe/Paris:20240620T190000
DTSTAMP:20260422T045620
CREATED:20240610T212725Z
LAST-MODIFIED:20240610T212725Z
UID:7678-1718910000-1718910000@montpellier.unioncommunistelibertaire.org
SUMMARY:Présentation de la Coord'eau 34
DESCRIPTION:La Base recevra la Coord’Eau34 le jeudi 20 juin\,\npour présenter et discuter des enjeux autour de l’eau dans l’Hérault et les luttes qui s’y construisent :\nde quoi donner à comprendre pour donner envie d’agir !\n \n Ces derniers mois la question de l’eau fait régulièrement la une de l’actualité : sécheresses\, inondations\, pollutions\, répression féroce de la lutte contre les méga bassines de Sainte-Soline\, etc.\n Néanmoins\, la question de l’eau comprend celle de sa consommation et de sa distribution au niveau individuel et agricole\, de son assainissement et de sa pollution éventuelle\, le tout en lien avec l’accélération des changements climatiques et celle des cycles de l’eau.\n Face à l’accaparement de l’eau par des intérêts privés\, des résistances s’organisent.\n\nLa Coord’Eau34\, qui réunit individus\, collectifs\, associations et organisations à travers tout l’Hérault a été créée pour s’emparer de ces questions.\nDe l’opposition aux projets de bassines portés par le Conseil Départemental à celui de l’implantation d’une usine d’embouteillage (Groupe Alma\, dont Cristaline\, Saint-Yorre\, Vichy) à Montagnac\, la Coord’Eau34 multiplie ses ancrages et ses interventions.
URL:https://montpellier.unioncommunistelibertaire.org/evenements/presentation-de-la-coordeau-34/
LOCATION:La BASE\, 15 rue Chaptal\, Montpellier\, France
CATEGORIES:Rencontre
ATTACH;FMTTYPE=image/png:https://montpellier.unioncommunistelibertaire.org/wp-content/uploads/2023/06/coordeau.png
END:VEVENT
END:VCALENDAR