BEGIN:VCALENDAR
VERSION:2.0
PRODID:-//Union Communiste Libertaire Montpellier - ECPv6.15.20//NONSGML v1.0//EN
CALSCALE:GREGORIAN
METHOD:PUBLISH
X-WR-CALNAME:Union Communiste Libertaire Montpellier
X-ORIGINAL-URL:https://montpellier.unioncommunistelibertaire.org
X-WR-CALDESC:Évènements pour Union Communiste Libertaire Montpellier
REFRESH-INTERVAL;VALUE=DURATION:PT1H
X-Robots-Tag:noindex
X-PUBLISHED-TTL:PT1H
BEGIN:VTIMEZONE
TZID:Europe/Paris
BEGIN:DAYLIGHT
TZOFFSETFROM:+0100
TZOFFSETTO:+0200
TZNAME:CEST
DTSTART:20230326T010000
END:DAYLIGHT
BEGIN:STANDARD
TZOFFSETFROM:+0200
TZOFFSETTO:+0100
TZNAME:CET
DTSTART:20231029T010000
END:STANDARD
BEGIN:DAYLIGHT
TZOFFSETFROM:+0100
TZOFFSETTO:+0200
TZNAME:CEST
DTSTART:20240331T010000
END:DAYLIGHT
BEGIN:STANDARD
TZOFFSETFROM:+0200
TZOFFSETTO:+0100
TZNAME:CET
DTSTART:20241027T010000
END:STANDARD
BEGIN:DAYLIGHT
TZOFFSETFROM:+0100
TZOFFSETTO:+0200
TZNAME:CEST
DTSTART:20250330T010000
END:DAYLIGHT
BEGIN:STANDARD
TZOFFSETFROM:+0200
TZOFFSETTO:+0100
TZNAME:CET
DTSTART:20251026T010000
END:STANDARD
END:VTIMEZONE
BEGIN:VEVENT
DTSTART;TZID=Europe/Paris:20240309T130000
DTEND;TZID=Europe/Paris:20240309T150000
DTSTAMP:20260422T053347
CREATED:20240308T070717Z
LAST-MODIFIED:20240308T071230Z
UID:7581-1709989200-1709996400@montpellier.unioncommunistelibertaire.org
SUMMARY:Réquisition d'un bâtiment public vacant depuis des années par le collectif Robin.es des Toits et leurs soutiens
DESCRIPTION:Voici un communiqué du collectif Robin.es des Toits que l’UCL Montpellier soutien. \nRéquisition d’un bâtiment public vacant depuis des années\npar le collectif Robin.es des Toits et leurs soutiens\nAppel à soutien !\nLe collectif Robin.es des Toits occupe la rue devant l’ancienne auberge de jeunesse et la terrasse de cette dernière depuis samedi 02\nmars.\nLundi 04 mars une délégation du collectif a été reçue à la mairie. \nNous réclamons l’ouverture d’urgence du lieu pour les personnes à la rue à travers la signature d’une convention d’occupation\nprécaire. Même si ce lieu est l’objet d’études en lien avec la Fondation Abbé Pierre (FAP) nous pensons qu’en attente de\nl’aboutissement de ce projet\, qui prendra encore plusieurs mois\, l’auberge peut être ouverte pour y accueillir ces personnes. Nous\navons aussi demandé la mise à disposition d’un autre lieu municipal le cas échéant. \nLe collectif a déjà travaillé sur une charte d’occupation\, remise à la mairie\, garantissant l’accueil des personnes à la rue dans de\nbonnes conditions de sécurité\, d’hygiène et de respect de la vie collective. \nLa mairie doit nous répondre quant à ces demandes. \nVous pouvez soutenir notre action en étant présent.es avec nous sur ce lieu. \nNous appelons à un rassemblement à l’auberge\, en bas de la rue des écoles laïques\, samedi 09 mars à 13h ! N’hésitez pas à faire\ntourner ces informations et à appeler au soutien des nos différentes actions. \nUn toit c’est un droit !\nLa rue tue (1) !\nLe collectif Robin.es des Toits \n\nhttps://www.midilibre.fr/2023/10/28/deux-fois-plus-de-sdf-en-10-ans-49-ans-desperance-de-vie-les-chiffres-alarmants-du-collectif-les-morts-de-la-rue-11546824.php
URL:https://montpellier.unioncommunistelibertaire.org/evenements/requisition-dun-batiment-public-vacant-depuis-des-annees-par-le-collectif-robin-es-des-toits-et-leurs-soutiens/
CATEGORIES:Rassemblement
END:VEVENT
END:VCALENDAR